BEGIN:VCALENDAR
VERSION:2.0
PRODID:-//PFIC - ECPv6.15.20//NONSGML v1.0//EN
CALSCALE:GREGORIAN
METHOD:PUBLISH
X-ORIGINAL-URL:https://www.pfic.org
X-WR-CALDESC:Events for PFIC
REFRESH-INTERVAL;VALUE=DURATION:PT1H
X-Robots-Tag:noindex
X-PUBLISHED-TTL:PT1H
BEGIN:VTIMEZONE
TZID:UTC
BEGIN:STANDARD
TZOFFSETFROM:+0000
TZOFFSETTO:+0000
TZNAME:UTC
DTSTART:20200101T000000
END:STANDARD
END:VTIMEZONE
BEGIN:VEVENT
DTSTART;VALUE=DATE:20210623
DTEND;VALUE=DATE:20210627
DTSTAMP:20260419T185044
CREATED:20210318T151856Z
LAST-MODIFIED:20210318T172354Z
UID:91112-1624406400-1624751999@www.pfic.org
SUMMARY:EASL International Liver Congress 2021
DESCRIPTION:We will be attending the virtual event offered by EASL. Patients and affiliates are encouraged to join to learn more! Details taken from website: \n\n\nThe International Liver Congress™ 2021\, our flagship congress\, is delivered to you on our online learning platform\, EASL Campus. ILC 2021 is all about beating liver disease together. We will tackle this challenge from multiple perspectives\, drawing on multidisciplinary expertise. ILC 2021 will be your live EASL Campus experience\, enabling you to broaden your knowledge and build bridges\, between people and areas of expertise. Getting onto EASL Campus offers you the perfect mix of mingling and learning. \nWe are pleased to announce new dates: ILC 2021 will take place from Wednesday to Saturday\, 23–26 June.   \nCalling upon our international\, multi-generational network and employing a range of learning methods\, we will draw inspiration from the evolution of science. Together.
URL:https://www.pfic.org/event/easl-international-liver-congress-2021/
CATEGORIES:Conferences
END:VEVENT
END:VCALENDAR