BEGIN:VCALENDAR
VERSION:2.0
PRODID:-//PFIC - ECPv6.15.20//NONSGML v1.0//EN
CALSCALE:GREGORIAN
METHOD:PUBLISH
X-WR-CALNAME:PFIC
X-ORIGINAL-URL:https://www.pfic.org
X-WR-CALDESC:Events for PFIC
REFRESH-INTERVAL;VALUE=DURATION:PT1H
X-Robots-Tag:noindex
X-PUBLISHED-TTL:PT1H
BEGIN:VTIMEZONE
TZID:UTC
BEGIN:STANDARD
TZOFFSETFROM:+0000
TZOFFSETTO:+0000
TZNAME:UTC
DTSTART:20240101T000000
END:STANDARD
END:VTIMEZONE
BEGIN:VEVENT
DTSTART;VALUE=DATE:20250626
DTEND;VALUE=DATE:20250629
DTSTAMP:20260420T092251
CREATED:20240523T020005Z
LAST-MODIFIED:20241026T213312Z
UID:98551-1750896000-1751155199@www.pfic.org
SUMMARY:2025 Cholestatic Liver Disease Summit
DESCRIPTION:The 2025 PFIC Family & Scientific Conference will be part of the Inaugural Cholestatic Liver Disease Summit! In partnership with Alagille Syndrome Alliance (ALGSA) and Biliary Atresia Research & Education (BARE)\, we will be gathering the wider cholestatic liver disease community together in one place. This unique event will foster collaboration and learning between patients and families\, researchers\, clinicians and industry stakeholders. We hope you can join us! \nStay tuned for more event details!
URL:https://www.pfic.org/event/2025-pfic-family-scientific-conference/
LOCATION:IL
END:VEVENT
END:VCALENDAR