BEGIN:VCALENDAR
VERSION:2.0
PRODID:-//PFIC - ECPv6.15.20//NONSGML v1.0//EN
CALSCALE:GREGORIAN
METHOD:PUBLISH
X-ORIGINAL-URL:https://www.pfic.org
X-WR-CALDESC:Events for PFIC
REFRESH-INTERVAL;VALUE=DURATION:PT1H
X-Robots-Tag:noindex
X-PUBLISHED-TTL:PT1H
BEGIN:VTIMEZONE
TZID:UTC
BEGIN:STANDARD
TZOFFSETFROM:+0000
TZOFFSETTO:+0000
TZNAME:UTC
DTSTART:20230101T000000
END:STANDARD
END:VTIMEZONE
BEGIN:VEVENT
DTSTART;TZID=UTC:20241218T180000
DTEND;TZID=UTC:20241218T193000
DTSTAMP:20260419T171611
CREATED:20241113T030954Z
LAST-MODIFIED:20241113T030954Z
UID:109881-1734544800-1734550200@www.pfic.org
SUMMARY:December IMPACT Focus Group
DESCRIPTION:Join us for our next Focus Group in December!\n\n\nJoin our community of patients\, parents\, clinicians\, and researchers on Wednesday\, December 18th at 6pm EST on Zoom for a conversation about PFIC research priorities! You do not need to have attended a previous IMPACT Focus Group to join us. For more information about Project IMPACT\, please visit our project website. \nRegister Now!
URL:https://www.pfic.org/event/december-impact-focus-group/
LOCATION:IL
END:VEVENT
END:VCALENDAR