BEGIN:VCALENDAR
VERSION:2.0
PRODID:-//PFIC - ECPv6.15.20//NONSGML v1.0//EN
CALSCALE:GREGORIAN
METHOD:PUBLISH
X-ORIGINAL-URL:https://www.pfic.org
X-WR-CALDESC:Events for PFIC
REFRESH-INTERVAL;VALUE=DURATION:PT1H
X-Robots-Tag:noindex
X-PUBLISHED-TTL:PT1H
BEGIN:VTIMEZONE
TZID:UTC
BEGIN:STANDARD
TZOFFSETFROM:+0000
TZOFFSETTO:+0000
TZNAME:UTC
DTSTART:20230101T000000
END:STANDARD
END:VTIMEZONE
BEGIN:VEVENT
DTSTART;VALUE=DATE:20240426
DTEND;VALUE=DATE:20240428
DTSTAMP:20260420T064031
CREATED:20231129T163358Z
LAST-MODIFIED:20231129T163358Z
UID:98122-1714089600-1714262399@www.pfic.org
SUMMARY:2024 PFIC Family & Scientific Conference
DESCRIPTION:The PFIC Family & Scientific Conference is back! This unique conference brings together PFIC patients\, families\, clinicians\, researchers\, and industry stakeholders for an unforgettable experience of learning\, sharing\, and networking. \n  \n  \nWe are partnering with Cincinnati Children’s Hospital and Medical Center to host the 2024 conference in Cincinnati\, Ohio. The Undiagnosed and Rare Liver Disease Center at CCHMC is focused on improving outcomes and finding a cure for PFIC and related diseases. We are excited to work together to make this conference a special one! \nWe hope you can join us!
URL:https://www.pfic.org/event/2024-pfic-family-scientific-conference/
LOCATION:Cincinnati\, Ohio\, Cincinnati\, Ohio\, USA
END:VEVENT
END:VCALENDAR