BEGIN:VCALENDAR
VERSION:2.0
PRODID:-//PFIC - ECPv6.15.20//NONSGML v1.0//EN
CALSCALE:GREGORIAN
METHOD:PUBLISH
X-WR-CALNAME:PFIC
X-ORIGINAL-URL:https://www.pfic.org
X-WR-CALDESC:Events for PFIC
REFRESH-INTERVAL;VALUE=DURATION:PT1H
X-Robots-Tag:noindex
X-PUBLISHED-TTL:PT1H
BEGIN:VTIMEZONE
TZID:UTC
BEGIN:STANDARD
TZOFFSETFROM:+0000
TZOFFSETTO:+0000
TZNAME:UTC
DTSTART:20200101T000000
END:STANDARD
END:VTIMEZONE
BEGIN:VEVENT
DTSTART;TZID=UTC:20210913T160000
DTEND;TZID=UTC:20210913T170000
DTSTAMP:20260423T081035
CREATED:20210907T122813Z
LAST-MODIFIED:20210907T122954Z
UID:92247-1631548800-1631552400@www.pfic.org
SUMMARY:Kids Club-Zoom Chat
DESCRIPTION:This zoom chat is very special. It is a chat room hosted by kids with PFIC\, for kids with PFIC. The hosts\, Cade (17)\, Cadence (11) and Cedar (9)\, have all been through/are going through PFIC and understand what it is like to be a kid who is itchy\, who has had multiple hospitalizations\, who has had a liver transplant\, who has to take many medications\, or whose parents just keep talking about PFIC. \nThese kids are very special. Starting on September 13 @ 4 pm EST (USA)\, they are going to meet via zoom. They enjoy getting together on zoom to do art together\, have show and tell\, talk about their favorite activities\, or just hang out. They are also open to talking with other kids about having PFIC. \nKids of all ages\, from all areas of the world are welcome. PFIC Network can help with language support\, time zone conversion\, or tech facilitation if needed\, so please contact lisa@pfic.org if you or your child would like to join but may need additional assistance
URL:https://www.pfic.org/event/kids-club-zoom-chat/
CATEGORIES:Community Calls
END:VEVENT
END:VCALENDAR