BEGIN:VCALENDAR
VERSION:2.0
PRODID:-//PFIC - ECPv6.15.20//NONSGML v1.0//EN
CALSCALE:GREGORIAN
METHOD:PUBLISH
X-WR-CALNAME:PFIC
X-ORIGINAL-URL:https://www.pfic.org
X-WR-CALDESC:Events for PFIC
REFRESH-INTERVAL;VALUE=DURATION:PT1H
X-Robots-Tag:noindex
X-PUBLISHED-TTL:PT1H
BEGIN:VTIMEZONE
TZID:UTC
BEGIN:STANDARD
TZOFFSETFROM:+0000
TZOFFSETTO:+0000
TZNAME:UTC
DTSTART:20210101T000000
END:STANDARD
END:VTIMEZONE
BEGIN:VEVENT
DTSTART;VALUE=DATE:20220409
DTEND;VALUE=DATE:20220410
DTSTAMP:20260426T033948
CREATED:20220401T181721Z
LAST-MODIFIED:20220401T181721Z
UID:93950-1649462400-1649548799@www.pfic.org
SUMMARY:International Alliance Meetings
DESCRIPTION:Formerly known as the Global Advisory Council.  \nWe invite you to join us at the International Alliance meeting. \nThis is a space for addressing PFIC resource needs as well as advocacy and policy issues in participating countries. Because of time zone differences across the globe we will be having two different meetings for people to attend. Th first is at 6 AM EST(USA) and the second will be at 3 PM EST(USA) on the same day.  \nRegister for the meetings here:\n6 AM EST(USA) Meeting: https://us06web.zoom.us/meeting/register/tZUucumqrT8oGtOE8em4ezBYAA2ljChS2MXE \n3 PM EST(USA) Meeting: https://us06web.zoom.us/meeting/register/tZcrd-6grjwuE9WIyGs3Six6u-wv2Vb-O-Kv
URL:https://www.pfic.org/event/international-alliance-meetings/2022-04-09/
END:VEVENT
BEGIN:VEVENT
DTSTART;VALUE=DATE:20220429
DTEND;VALUE=DATE:20220501
DTSTAMP:20260426T033948
CREATED:20211202T162804Z
LAST-MODIFIED:20211207T152651Z
UID:92777-1651190400-1651363199@www.pfic.org
SUMMARY:2022 Scientific Conference
DESCRIPTION:The PFIC Network will be hosting a scientific meeting for researchers\, patients\, providers and industry partners on April 29-30 in Pittsburg\, Pennsylvania. This will be a hybrid meeting with opportunities to present research both in person and virtual.  \nImportant Dates:  \nAbstract submission deadline: January 21\, 2020\nFinal decision on presentations: January 28\, 2020 \nSubmit abstract: Click Here \nSee event home: Click Here \nSee the venue: Click Here
URL:https://www.pfic.org/event/2022-scientific-conference/
LOCATION:Pittsburgh\, PA\, 1111 Airport Boulevard\, Pittsburgh\, Pennsylvania\, United States\, 15231\, Pittsburgh\, PA\, 15231\, United States
CATEGORIES:Conferences,Educational Webinar Series
ORGANIZER;CN="PFIC Network%2C Inc.":MAILTO:emily@pfic.org
END:VEVENT
END:VCALENDAR