BEGIN:VCALENDAR
VERSION:2.0
PRODID:-//PFIC - ECPv6.15.20//NONSGML v1.0//EN
CALSCALE:GREGORIAN
METHOD:PUBLISH
X-WR-CALNAME:PFIC
X-ORIGINAL-URL:https://www.pfic.org
X-WR-CALDESC:Events for PFIC
REFRESH-INTERVAL;VALUE=DURATION:PT1H
X-Robots-Tag:noindex
X-PUBLISHED-TTL:PT1H
BEGIN:VTIMEZONE
TZID:UTC
BEGIN:STANDARD
TZOFFSETFROM:+0000
TZOFFSETTO:+0000
TZNAME:UTC
DTSTART:20220101T000000
END:STANDARD
END:VTIMEZONE
BEGIN:VEVENT
DTSTART;TZID=UTC:20231018T190000
DTEND;TZID=UTC:20231018T200000
DTSTAMP:20260421T044842
CREATED:20231011T174408Z
LAST-MODIFIED:20231011T174408Z
UID:97952-1697655600-1697659200@www.pfic.org
SUMMARY:PFIC Parents & Caregivers Virtual Support Group
DESCRIPTION:  \n \nVirtual PFIC Support Groups provide a safe and welcoming space in which patients\, family members and caregivers of PFIC patients can connect with one another\, share their experiences\, and offer one another support. All patients\, caregivers\, and family members are invited to join. \nRegister Now!
URL:https://www.pfic.org/event/pfic-parents-caregivers-virtual-support-group/
END:VEVENT
BEGIN:VEVENT
DTSTART;TZID=UTC:20231115T190000
DTEND;TZID=UTC:20231115T200000
DTSTAMP:20260421T044842
CREATED:20231011T175419Z
LAST-MODIFIED:20231011T175525Z
UID:97957-1700074800-1700078400@www.pfic.org
SUMMARY:PFIC Parents & Caregivers Virtual Support Group
DESCRIPTION:  \n \nVirtual PFIC Support Groups provide a safe and welcoming space in which patients\, family members and caregivers of PFIC patients can connect with one another\, share their experiences\, and offer one another support. All patients\, caregivers\, and family members are invited to join. \nRegister Now!
URL:https://www.pfic.org/event/97957/
END:VEVENT
BEGIN:VEVENT
DTSTART;VALUE=DATE:20231204
DTEND;VALUE=DATE:20231205
DTSTAMP:20260421T044842
CREATED:20231129T160533Z
LAST-MODIFIED:20231129T164236Z
UID:98116-1701648000-1701734399@www.pfic.org
SUMMARY:IMPACT Module 2 Launch Day
DESCRIPTION:Module 2 of Project IMPACT is now live! Complete it today! \nIf you are a PFIC patient (ages 14+)\, parent\, healthcare provider\, or researcher\, we want YOU to participate!  \nIMPACT modules are designed to help PFIC families AND clinicians & researchers learn more about patient-centered coutcomes research (PCOR). Having a shared base of PCOR knowledge helps us all be prepared to have important conversations about what PCOR studies could look like in PFIC. \nThere will be a total of 6 modules throughout Project IMPACT. Each one consists of a learning module and a feedback survey and takes about 25 min to complete. Module 1 is also still available if you haven’t completed it yet.
URL:https://www.pfic.org/event/impact-module-2-launch-day/
END:VEVENT
END:VCALENDAR