BEGIN:VCALENDAR
VERSION:2.0
PRODID:-//PFIC - ECPv6.15.20//NONSGML v1.0//EN
CALSCALE:GREGORIAN
METHOD:PUBLISH
X-WR-CALNAME:PFIC
X-ORIGINAL-URL:https://www.pfic.org
X-WR-CALDESC:Events for PFIC
REFRESH-INTERVAL;VALUE=DURATION:PT1H
X-Robots-Tag:noindex
X-PUBLISHED-TTL:PT1H
BEGIN:VTIMEZONE
TZID:UTC
BEGIN:STANDARD
TZOFFSETFROM:+0000
TZOFFSETTO:+0000
TZNAME:UTC
DTSTART:20190101T000000
END:STANDARD
END:VTIMEZONE
BEGIN:VTIMEZONE
TZID:America/New_York
BEGIN:DAYLIGHT
TZOFFSETFROM:-0500
TZOFFSETTO:-0400
TZNAME:EDT
DTSTART:20200308T070000
END:DAYLIGHT
BEGIN:STANDARD
TZOFFSETFROM:-0400
TZOFFSETTO:-0500
TZNAME:EST
DTSTART:20201101T060000
END:STANDARD
BEGIN:DAYLIGHT
TZOFFSETFROM:-0500
TZOFFSETTO:-0400
TZNAME:EDT
DTSTART:20210314T070000
END:DAYLIGHT
BEGIN:STANDARD
TZOFFSETFROM:-0400
TZOFFSETTO:-0500
TZNAME:EST
DTSTART:20211107T060000
END:STANDARD
BEGIN:DAYLIGHT
TZOFFSETFROM:-0500
TZOFFSETTO:-0400
TZNAME:EDT
DTSTART:20220313T070000
END:DAYLIGHT
BEGIN:STANDARD
TZOFFSETFROM:-0400
TZOFFSETTO:-0500
TZNAME:EST
DTSTART:20221106T060000
END:STANDARD
END:VTIMEZONE
BEGIN:VEVENT
DTSTART;TZID=UTC:20201019T193000
DTEND;TZID=UTC:20201019T203000
DTSTAMP:20260425T160142
CREATED:20200919T200529Z
LAST-MODIFIED:20200926T111420Z
UID:88835-1603135800-1603139400@www.pfic.org
SUMMARY:Understanding the Drug Development Process
DESCRIPTION:
URL:https://www.pfic.org/event/understanding-the-drug-development-process/
CATEGORIES:Advocacy Series
ATTACH;FMTTYPE=image/jpeg:https://www.pfic.org/wp-content/uploads/Advocacy-Series-Graphic-scaled.jpg
ORGANIZER;CN="PFIC Network%2C Inc.":MAILTO:emily@pfic.org
END:VEVENT
BEGIN:VEVENT
DTSTART;TZID=UTC:20201107T160000
DTEND;TZID=UTC:20201107T170000
DTSTAMP:20260425T160142
CREATED:20200913T222358Z
LAST-MODIFIED:20200919T202530Z
UID:88770-1604764800-1604768400@www.pfic.org
SUMMARY:WEBINAR Genetics of PFIC
DESCRIPTION:
URL:https://www.pfic.org/event/webinar-genetics-of-pfic/
CATEGORIES:Educational Webinar Series
ATTACH;FMTTYPE=image/jpeg:https://www.pfic.org/wp-content/uploads/Educational-Series-Graphic-scaled.jpg
ORGANIZER;CN="PFIC Network%2C Inc.":MAILTO:emily@pfic.org
END:VEVENT
BEGIN:VEVENT
DTSTART;TZID=UTC:20201110T190000
DTEND;TZID=UTC:20201110T200000
DTSTAMP:20260425T160142
CREATED:20200926T111631Z
LAST-MODIFIED:20200926T111631Z
UID:88873-1605034800-1605038400@www.pfic.org
SUMMARY:WEBINAR: Mental Health-Coping Strategies for the Patient and Caregiver
DESCRIPTION:
URL:https://www.pfic.org/event/webinar-mental-health-coping-strategies-for-the-patient-and-caregiver/
CATEGORIES:Educational Webinar Series
ATTACH;FMTTYPE=image/jpeg:https://www.pfic.org/wp-content/uploads/Educational-Series-Graphic-scaled.jpg
ORGANIZER;CN="PFIC Network%2C Inc.":MAILTO:emily@pfic.org
END:VEVENT
BEGIN:VEVENT
DTSTART;TZID=UTC:20201119T193000
DTEND;TZID=UTC:20201119T203000
DTSTAMP:20260425T160142
CREATED:20200919T201312Z
LAST-MODIFIED:20200919T201312Z
UID:88841-1605814200-1605817800@www.pfic.org
SUMMARY:Patient/Parent Advisory Board Meeting
DESCRIPTION:
URL:https://www.pfic.org/event/patient-parent-advisory-board-meeting/2020-11-19/
CATEGORIES:Patient/Parent Advisory Board
ORGANIZER;CN="PFIC Network%2C Inc.":MAILTO:emily@pfic.org
END:VEVENT
BEGIN:VEVENT
DTSTART;TZID=UTC:20201208T193000
DTEND;TZID=UTC:20201208T210000
DTSTAMP:20260425T160142
CREATED:20201106T152552Z
LAST-MODIFIED:20201106T195138Z
UID:89333-1607455800-1607461200@www.pfic.org
SUMMARY:PFIC 101
DESCRIPTION:
URL:https://www.pfic.org/event/pfic-101/
CATEGORIES:Educational Webinar Series
ORGANIZER;CN="PFIC Network%2C Inc.":MAILTO:emily@pfic.org
END:VEVENT
BEGIN:VEVENT
DTSTART;TZID=America/New_York:20210105T170000
DTEND;TZID=America/New_York:20210105T180000
DTSTAMP:20260425T160142
CREATED:20201231T025148Z
LAST-MODIFIED:20201231T025148Z
UID:89995-1609866000-1609869600@www.pfic.org
SUMMARY:PFIC Community Call
DESCRIPTION:PFIC Community Calls through January will be hosted by the PFIC Network as a place for members of the community to connect and ask questions. These calls are open to PFIC community members. \nTopic: PFIC Community Call\nTime: Jan 29\, 2021 05:00 PM Eastern Time (US and Canada) \nJoin Zoom Meeting\nhttps://zoom.us/j/7275588969 \nMeeting ID: 727 558 8969\nOne tap mobile\n+13017158592\,\,7275588969# US (Washington D.C)\n+13126266799\,\,7275588969# US (Chicago) \nDial by your location\n+1 301 715 8592 US (Washington D.C)\n+1 312 626 6799 US (Chicago)\n+1 646 558 8656 US (New York)\n+1 253 215 8782 US (Tacoma)\n+1 346 248 7799 US (Houston)\n+1 669 900 9128 US (San Jose)\n+1 647 374 4685 Canada\n+1 647 558 0588 Canada\n+1 778 907 2071 Canada\n+1 204 272 7920 Canada\n+1 438 809 7799 Canada\n+1 587 328 1099 Canada\n+61 3 7018 2005 Australia\n+61 7 3185 3730 Australia\n+61 8 6119 3900 Australia\n+61 8 7150 1149 Australia\n+61 2 8015 6011 Australia\n+44 203 481 5240 United Kingdom\n+44 203 901 7895 United Kingdom\n+44 208 080 6591 United Kingdom\n+44 208 080 6592 United Kingdom\n+44 330 088 5830 United Kingdom\n+44 131 460 1196 United Kingdom\n+44 203 481 5237 United Kingdom\n+39 020 066 7245 Italy\n+39 021 241 28 823 Italy\n+39 069 480 6488 Italy\n+48 22 306 5342 Poland\n+48 22 307 3488 Poland\n+48 22 398 7356 Poland\n+49 69 7104 9922 Germany\n+49 30 5679 5800 Germany\n+49 69 3807 9883 Germany\n+49 695 050 2596 Germany\n+356 2778 1288 Malta\n+356 2776 1777 Malta\n+64 3 659 0603 New Zealand\n+64 4 886 0026 New Zealand\n+64 9 884 6780 New Zealand\n+90 216 900 2606 Turkey\n+90 216 900 1866 Turkey\nMeeting ID: 727 558 8969\nFind your local number: https://zoom.us/u/adNAYci0NT \n 
URL:https://www.pfic.org/event/pfic-community-call/2021-01-05/
CATEGORIES:Community Calls
ORGANIZER;CN="PFIC Network%2C Inc.":MAILTO:emily@pfic.org
END:VEVENT
BEGIN:VEVENT
DTSTART;TZID=UTC:20210206T000000
DTEND;TZID=UTC:20210206T000000
DTSTAMP:20260425T160142
CREATED:20210128T044405Z
LAST-MODIFIED:20210128T044405Z
UID:90388-1612569600-1612569600@www.pfic.org
SUMMARY:Global Advisory Board
DESCRIPTION:Coordinated meetings from Europe to Australia to accommodate the PFIC population across the Globe. Global Advocates have the unique abilities to share needs that are specific to their own countries. Together\, we hope that we can create solutions to fit all resource gaps.
URL:https://www.pfic.org/event/global-advisory-board/
CATEGORIES:Global Advisory Board
ORGANIZER;CN="PFIC Network%2C Inc.":MAILTO:emily@pfic.org
END:VEVENT
BEGIN:VEVENT
DTSTART;TZID=UTC:20210208T200000
DTEND;TZID=UTC:20210208T213000
DTSTAMP:20260425T160142
CREATED:20210127T234825Z
LAST-MODIFIED:20210308T143325Z
UID:90364-1612814400-1612819800@www.pfic.org
SUMMARY:Board Of Directors Meeting
DESCRIPTION:Monthly meetings of governance and direction for our organization. These meetings are for members of the Board of Directors\, all other attendees are by invite only.
URL:https://www.pfic.org/event/board-of-directors-meeting-2/2021-02-08/
CATEGORIES:Board of Directors
ORGANIZER;CN="PFIC Network%2C Inc.":MAILTO:emily@pfic.org
END:VEVENT
BEGIN:VEVENT
DTSTART;TZID=UTC:20210322T150000
DTEND;TZID=UTC:20210322T160000
DTSTAMP:20260425T160142
CREATED:20201226T141937Z
LAST-MODIFIED:20230615T160529Z
UID:89862-1616425200-1616428800@www.pfic.org
SUMMARY:FDA Listening Session
DESCRIPTION:An FDA Listening Session is an opportunity for those who experience a disease (such as PFIC) as a patient of caregiver to speak to the FDA. This allows the FDA the opportunity to understand the desperate need for further treatments to be developed. Listening sessions are used as a resource for these regulators to engage with patients or their advocates so that the patient community can share their experience with their disease by talking directly to FDA staff.
URL:https://www.pfic.org/event/fda-listening-session/
CATEGORIES:Advocacy Events
ORGANIZER;CN="PFIC Network%2C Inc.":MAILTO:emily@pfic.org
END:VEVENT
BEGIN:VEVENT
DTSTART;TZID=UTC:20210408T150000
DTEND;TZID=UTC:20210408T160000
DTSTAMP:20260425T160142
CREATED:20210127T235240Z
LAST-MODIFIED:20210319T194104Z
UID:90379-1617894000-1617897600@www.pfic.org
SUMMARY:Patient & Parent Advisory Board
DESCRIPTION:Monthly meetings for our patient and caregiver community to share feedback\, resources and present new ideas to improve the quality of life of the PFIC Community.
URL:https://www.pfic.org/event/patient-parent-advisory-board-2021-04-01/
CATEGORIES:Patient/Parent Advisory Board
ORGANIZER;CN="PFIC Network%2C Inc.":MAILTO:emily@pfic.org
END:VEVENT
BEGIN:VEVENT
DTSTART;TZID=UTC:20210410T000000
DTEND;TZID=UTC:20210410T000000
DTSTAMP:20260425T160142
CREATED:20210128T044538Z
LAST-MODIFIED:20210128T044538Z
UID:90390-1618012800-1618012800@www.pfic.org
SUMMARY:Global Advisory Board
DESCRIPTION:Coordinated meetings from Europe to Australia to accommodate the PFIC population across the Globe. Global Advocates have the unique abilities to share needs that are specific to their own countries. Together\, we hope that we can create solutions to fit all resource gaps.
URL:https://www.pfic.org/event/global-advisory-board-2/2021-04-10/
CATEGORIES:Global Advisory Board
ORGANIZER;CN="PFIC Network%2C Inc.":MAILTO:emily@pfic.org
END:VEVENT
END:VCALENDAR