BEGIN:VCALENDAR
VERSION:2.0
PRODID:-//PFIC - ECPv6.15.20//NONSGML v1.0//EN
CALSCALE:GREGORIAN
METHOD:PUBLISH
X-ORIGINAL-URL:https://www.pfic.org
X-WR-CALDESC:Events for PFIC
REFRESH-INTERVAL;VALUE=DURATION:PT1H
X-Robots-Tag:noindex
X-PUBLISHED-TTL:PT1H
BEGIN:VTIMEZONE
TZID:UTC
BEGIN:STANDARD
TZOFFSETFROM:+0000
TZOFFSETTO:+0000
TZNAME:UTC
DTSTART:20250101T000000
END:STANDARD
END:VTIMEZONE
BEGIN:VEVENT
DTSTART;VALUE=DATE:20260907
DTEND;VALUE=DATE:20260908
DTSTAMP:20260423T120121
CREATED:20260422T211608Z
LAST-MODIFIED:20260422T211608Z
UID:111052-1788739200-1788825599@www.pfic.org
SUMMARY:4th Annual PFIC Charity Party + Disc Golf Tournament
DESCRIPTION:SAVE THE DATE!  September 7\, 2026 \nThree years in and we just keep having more fun. Join us for our 4th Annual Charity Party + Disc Golf Tournament at Redpoint BBQ  in the beautiful Red River Gorge of Kentucky! \nMark your calendars for Monday\, September 7\, 2026 (Labor Day) for a day of disc golf\, cornhole\, and more! \n\nInterested in sponsoring this awesome community event? Please contact us!
URL:https://www.pfic.org/event/4th-annual-pfic-charity-party-disc-golf-tournament/
LOCATION:Redpoint BBQ\, 356 Smith Rd\, Campton\, Kentucky\, 41301
CATEGORIES:Fundraising
END:VEVENT
END:VCALENDAR