BEGIN:VCALENDAR
VERSION:2.0
PRODID:-//PFIC - ECPv6.15.20//NONSGML v1.0//EN
CALSCALE:GREGORIAN
METHOD:PUBLISH
X-WR-CALNAME:PFIC
X-ORIGINAL-URL:https://www.pfic.org
X-WR-CALDESC:Events for PFIC
REFRESH-INTERVAL;VALUE=DURATION:PT1H
X-Robots-Tag:noindex
X-PUBLISHED-TTL:PT1H
BEGIN:VTIMEZONE
TZID:UTC
BEGIN:STANDARD
TZOFFSETFROM:+0000
TZOFFSETTO:+0000
TZNAME:UTC
DTSTART:20190101T000000
END:STANDARD
END:VTIMEZONE
BEGIN:VEVENT
DTSTART;TZID=UTC:20200928T140000
DTEND;TZID=UTC:20200928T150000
DTSTAMP:20260423T084129
CREATED:20200913T222435Z
LAST-MODIFIED:20200919T202826Z
UID:88761-1601301600-1601305200@www.pfic.org
SUMMARY:WEBINAR Medical Management of PFIC: Nutrition and Medications
DESCRIPTION:
URL:https://www.pfic.org/event/webinar-medical-management-of-pfic-nutrition-and-medications/
CATEGORIES:Educational Webinar Series
ATTACH;FMTTYPE=image/jpeg:https://www.pfic.org/wp-content/uploads/Educational-Series-Graphic-scaled.jpg
ORGANIZER;CN="PFIC Network%2C Inc.":MAILTO:emily@pfic.org
END:VEVENT
BEGIN:VEVENT
DTSTART;TZID=UTC:20200928T150000
DTEND;TZID=UTC:20200928T160000
DTSTAMP:20260423T084129
CREATED:20200913T222127Z
LAST-MODIFIED:20200919T202753Z
UID:88764-1601305200-1601308800@www.pfic.org
SUMMARY:WEBINAR Surgical Management of PFIC: Diversions and Transplant
DESCRIPTION:
URL:https://www.pfic.org/event/webinar-surgical-management-of-pfic-diversions-and-transplant/
CATEGORIES:Educational Webinar Series
ATTACH;FMTTYPE=image/jpeg:https://www.pfic.org/wp-content/uploads/Educational-Series-Graphic-scaled.jpg
ORGANIZER;CN="PFIC Network%2C Inc.":MAILTO:emily@pfic.org
END:VEVENT
BEGIN:VEVENT
DTSTART;TZID=UTC:20200929T140000
DTEND;TZID=UTC:20200929T150000
DTSTAMP:20260423T084129
CREATED:20200913T222237Z
LAST-MODIFIED:20200919T202721Z
UID:88766-1601388000-1601391600@www.pfic.org
SUMMARY:WEBINAR Transplant: Complications of by subtype
DESCRIPTION:
URL:https://www.pfic.org/event/webinar-transplant-complications-of-by-subtype/
CATEGORIES:Educational Webinar Series
ATTACH;FMTTYPE=image/jpeg:https://www.pfic.org/wp-content/uploads/Educational-Series-Graphic-scaled.jpg
ORGANIZER;CN="PFIC Network%2C Inc.":MAILTO:emily@pfic.org
END:VEVENT
BEGIN:VEVENT
DTSTART;TZID=UTC:20200929T150000
DTEND;TZID=UTC:20200929T160000
DTSTAMP:20260423T084129
CREATED:20200913T222316Z
LAST-MODIFIED:20200919T202647Z
UID:88768-1601391600-1601395200@www.pfic.org
SUMMARY:WEBINAR Transplant: Life After
DESCRIPTION:
URL:https://www.pfic.org/event/webinar-transplant-life-after/
CATEGORIES:Educational Webinar Series
ATTACH;FMTTYPE=image/jpeg:https://www.pfic.org/wp-content/uploads/Educational-Series-Graphic-scaled.jpg
ORGANIZER;CN="PFIC Network%2C Inc.":MAILTO:emily@pfic.org
END:VEVENT
BEGIN:VEVENT
DTSTART;TZID=UTC:20201107T160000
DTEND;TZID=UTC:20201107T170000
DTSTAMP:20260423T084129
CREATED:20200913T222358Z
LAST-MODIFIED:20200919T202530Z
UID:88770-1604764800-1604768400@www.pfic.org
SUMMARY:WEBINAR Genetics of PFIC
DESCRIPTION:
URL:https://www.pfic.org/event/webinar-genetics-of-pfic/
CATEGORIES:Educational Webinar Series
ATTACH;FMTTYPE=image/jpeg:https://www.pfic.org/wp-content/uploads/Educational-Series-Graphic-scaled.jpg
ORGANIZER;CN="PFIC Network%2C Inc.":MAILTO:emily@pfic.org
END:VEVENT
BEGIN:VEVENT
DTSTART;TZID=UTC:20201110T190000
DTEND;TZID=UTC:20201110T200000
DTSTAMP:20260423T084129
CREATED:20200926T111631Z
LAST-MODIFIED:20200926T111631Z
UID:88873-1605034800-1605038400@www.pfic.org
SUMMARY:WEBINAR: Mental Health-Coping Strategies for the Patient and Caregiver
DESCRIPTION:
URL:https://www.pfic.org/event/webinar-mental-health-coping-strategies-for-the-patient-and-caregiver/
CATEGORIES:Educational Webinar Series
ATTACH;FMTTYPE=image/jpeg:https://www.pfic.org/wp-content/uploads/Educational-Series-Graphic-scaled.jpg
ORGANIZER;CN="PFIC Network%2C Inc.":MAILTO:emily@pfic.org
END:VEVENT
BEGIN:VEVENT
DTSTART;TZID=UTC:20201208T193000
DTEND;TZID=UTC:20201208T210000
DTSTAMP:20260423T084129
CREATED:20201106T152552Z
LAST-MODIFIED:20201106T195138Z
UID:89333-1607455800-1607461200@www.pfic.org
SUMMARY:PFIC 101
DESCRIPTION:
URL:https://www.pfic.org/event/pfic-101/
CATEGORIES:Educational Webinar Series
ORGANIZER;CN="PFIC Network%2C Inc.":MAILTO:emily@pfic.org
END:VEVENT
BEGIN:VEVENT
DTSTART;VALUE=DATE:20220429
DTEND;VALUE=DATE:20220501
DTSTAMP:20260423T084129
CREATED:20211202T162804Z
LAST-MODIFIED:20211207T152651Z
UID:92777-1651190400-1651363199@www.pfic.org
SUMMARY:2022 Scientific Conference
DESCRIPTION:The PFIC Network will be hosting a scientific meeting for researchers\, patients\, providers and industry partners on April 29-30 in Pittsburg\, Pennsylvania. This will be a hybrid meeting with opportunities to present research both in person and virtual.  \nImportant Dates:  \nAbstract submission deadline: January 21\, 2020\nFinal decision on presentations: January 28\, 2020 \nSubmit abstract: Click Here \nSee event home: Click Here \nSee the venue: Click Here
URL:https://www.pfic.org/event/2022-scientific-conference/
LOCATION:Pittsburgh\, PA\, 1111 Airport Boulevard\, Pittsburgh\, Pennsylvania\, United States\, 15231\, Pittsburgh\, PA\, 15231\, United States
CATEGORIES:Conferences,Educational Webinar Series
ORGANIZER;CN="PFIC Network%2C Inc.":MAILTO:emily@pfic.org
END:VEVENT
END:VCALENDAR