BEGIN:VCALENDAR
VERSION:2.0
PRODID:-//PFIC - ECPv6.15.20//NONSGML v1.0//EN
CALSCALE:GREGORIAN
METHOD:PUBLISH
X-ORIGINAL-URL:https://www.pfic.org
X-WR-CALDESC:Events for PFIC
REFRESH-INTERVAL;VALUE=DURATION:PT1H
X-Robots-Tag:noindex
X-PUBLISHED-TTL:PT1H
BEGIN:VTIMEZONE
TZID:UTC
BEGIN:STANDARD
TZOFFSETFROM:+0000
TZOFFSETTO:+0000
TZNAME:UTC
DTSTART:20250101T000000
END:STANDARD
END:VTIMEZONE
BEGIN:VEVENT
DTSTART;TZID=UTC:20260502T103000
DTEND;TZID=UTC:20260502T150000
DTSTAMP:20260423T032510
CREATED:20260422T212237Z
LAST-MODIFIED:20260422T212320Z
UID:111055-1777717800-1777734000@www.pfic.org
SUMMARY:Cholestatic Liver Diseases Canada: Patient Empowerment & Education Day (Virtual Event)
DESCRIPTION:🍁📣Calling all Canadian PFIC community members! \nPFIC Network will be attending the Cholestatic Liver Diseases Canada: Patient Empowerment & Education Day\, a virtual event funded by Mirum Pharmaceuticals Canada on Saturday\, May 2nd! \nOur Executive Director\, Emily Ventura\, will be joining patients\, caregivers\, advocates\, and medical experts for a day of learning and connection. \nThis event is open to patients with PFIC and Alagille Syndrome and their caregivers across Canada. \nRegister here: https://ccr5sw86obb.typeform.com/PatientForum52 \n 
URL:https://www.pfic.org/event/cholestatic-liver-diseases-canada-patient-empowerment-education-day/
LOCATION:Online
CATEGORIES:Community Calls,Educational Webinar Series
END:VEVENT
END:VCALENDAR