BEGIN:VCALENDAR
VERSION:2.0
PRODID:-//PFIC - ECPv6.15.20//NONSGML v1.0//EN
CALSCALE:GREGORIAN
METHOD:PUBLISH
X-WR-CALNAME:PFIC
X-ORIGINAL-URL:https://www.pfic.org
X-WR-CALDESC:Events for PFIC
REFRESH-INTERVAL;VALUE=DURATION:PT1H
X-Robots-Tag:noindex
X-PUBLISHED-TTL:PT1H
BEGIN:VTIMEZONE
TZID:UTC
BEGIN:STANDARD
TZOFFSETFROM:+0000
TZOFFSETTO:+0000
TZNAME:UTC
DTSTART:20230101T000000
END:STANDARD
END:VTIMEZONE
BEGIN:VEVENT
DTSTART;TZID=UTC:20241001T000000
DTEND;TZID=UTC:20241031T233000
DTSTAMP:20260419T192352
CREATED:20241016T194834Z
LAST-MODIFIED:20241016T194834Z
UID:109827-1727740800-1730417400@www.pfic.org
SUMMARY:PFIC Awareness Month
DESCRIPTION:PFIC Awareness Day is October 5th\, but we know this disease deserves more than a day. So here at PFIC Network\, the entire month of October will be PFIC Awareness Month. All month long we will be raising awareness about PFIC and raising funds for PFIC research and the support services you have come to love.
URL:https://www.pfic.org/event/pfic-awareness-month/
LOCATION:IL
END:VEVENT
BEGIN:VEVENT
DTSTART;TZID=UTC:20241022T180000
DTEND;TZID=UTC:20241022T193000
DTSTAMP:20260419T192352
CREATED:20240919T185829Z
LAST-MODIFIED:20240919T185829Z
UID:109690-1729620000-1729625400@www.pfic.org
SUMMARY:PFIC IMPACT October Focus Group Meeting
DESCRIPTION:Join us for our next Focus Group in October!\n\n\nJoin our community of patients\, parents\, clinicians\, and researchers on Tuesday\, October 22nd at 6pm EST on Zoom for a conversation about PFIC research priorities! You do not need to have attended a previous IMPACT Focus Group to join us. For more information about Project IMPACT\, please visit our project website. \nRegister Now!
URL:https://www.pfic.org/event/pfic-impact-october-focus-group-meeting/
LOCATION:IL
CATEGORIES:Advocacy Events,Community Calls
END:VEVENT
END:VCALENDAR